BEGIN:VCALENDAR
VERSION:2.0
PRODID: -//Q4 Inc.//EN
METHOD:PUBLISH
BEGIN:VTIMEZONE
TZID:America/New_York
X-LIC-LOCATION:America/New_York
BEGIN:DAYLIGHT
TZOFFSETFROM:-0500
TZOFFSETTO:-0400
TZNAME:EDT
DTSTART:19700308T020000
RRULE:FREQ=YEARLY;BYMONTH=3;BYDAY=2SU
END:DAYLIGHT
BEGIN:STANDARD
TZOFFSETFROM:-0400
TZOFFSETTO:-0500
TZNAME:EST
DTSTART:19701101T020000
RRULE:FREQ=YEARLY;BYMONTH=11;BYDAY=1SU
END:STANDARD
END:VTIMEZONE
BEGIN:VEVENT
ORGANIZER:MAILTO:investorrelations@kilroyrealty.com
DTSTART;TZID="America/New_York":20251028T130000
DTEND;TZID="America/New_York":20251028T140000
LOCATION:
UID:9b877183-67ae-476b-b0ae-e02cfb7f1fad
DTSTAMP:20260420T122443
SUMMARY:3Q25 Earnings Conference Call
DESCRIPTION: View More Information: https://investors.kilroyrealty.com/investors/shareholders/investor-events/event-details/2025/3Q25-Earnings-Conference-Call/default.aspx
URL;VALUE=URI:https://investors.kilroyrealty.com/investors/shareholders/investor-events/event-details/2025/3Q25-Earnings-Conference-Call/default.aspx
PRIORITY:5
CLASS:PUBLIC
END:VEVENT
END:VCALENDAR
